BEGIN:VCALENDAR
VERSION:2.0
PRODID:-//Hangar - Ithaca, NY - ECPv6.15.18//NONSGML v1.0//EN
CALSCALE:GREGORIAN
METHOD:PUBLISH
X-ORIGINAL-URL:https://hangartheatre.org
X-WR-CALDESC:Events for Hangar - Ithaca, NY
REFRESH-INTERVAL;VALUE=DURATION:PT1H
X-Robots-Tag:noindex
X-PUBLISHED-TTL:PT1H
BEGIN:VTIMEZONE
TZID:America/New_York
BEGIN:DAYLIGHT
TZOFFSETFROM:-0500
TZOFFSETTO:-0400
TZNAME:EDT
DTSTART:20240310T070000
END:DAYLIGHT
BEGIN:STANDARD
TZOFFSETFROM:-0400
TZOFFSETTO:-0500
TZNAME:EST
DTSTART:20241103T060000
END:STANDARD
BEGIN:DAYLIGHT
TZOFFSETFROM:-0500
TZOFFSETTO:-0400
TZNAME:EDT
DTSTART:20250309T070000
END:DAYLIGHT
BEGIN:STANDARD
TZOFFSETFROM:-0400
TZOFFSETTO:-0500
TZNAME:EST
DTSTART:20251102T060000
END:STANDARD
BEGIN:DAYLIGHT
TZOFFSETFROM:-0500
TZOFFSETTO:-0400
TZNAME:EDT
DTSTART:20260308T070000
END:DAYLIGHT
BEGIN:STANDARD
TZOFFSETFROM:-0400
TZOFFSETTO:-0500
TZNAME:EST
DTSTART:20261101T060000
END:STANDARD
END:VTIMEZONE
BEGIN:VEVENT
DTSTART;TZID=America/New_York:20251204T190000
DTEND;TZID=America/New_York:20251204T190000
DTSTAMP:20260423T043410
CREATED:20251107T000558Z
LAST-MODIFIED:20251107T000558Z
UID:19264-1764874800-1764874800@hangartheatre.org
SUMMARY:Improv 101 Showcase
DESCRIPTION:Improv 101 Showcase\nThursday\, December 4 @ 7 pm\n  \nTickets: $10 \nStudents from the Hangar Theatre & Ilan Kaplan’s beginner improv class show off what they’ve learned in a final showcase! Come see your friends\, family\, and community members get on stage and engage in improvised play. \n*Seating is General Admission for this performance
URL:https://hangartheatre.org/event/improv-101-showcase/
LOCATION:NY
CATEGORIES:Hangar Spotlight
END:VEVENT
BEGIN:VEVENT
DTSTART;TZID=America/New_York:20251206T190000
DTEND;TZID=America/New_York:20251206T190000
DTSTAMP:20260423T043410
CREATED:20251031T110635Z
LAST-MODIFIED:20251130T153650Z
UID:19252-1765047600-1765047600@hangartheatre.org
SUMMARY:The Hangar Hobnob
DESCRIPTION:What’s Inside: Songs and Stories from the Hangar Theatre\nA Night of Cabaret & Cocktails (& Mocktails!)\n7:00–10:00 pm \nFor one unforgettable night\, experience the magic of Hangar Theatre as we celebrate 50 remarkable years of songs and stories! Join us as Hangar artists–past and present–take the stage to share their favorite moments from our dazzling array of shows. Don’t miss this unique opportunity to relive the highlights that have shaped our legacy and continue to inspire. \nAll ticket sales and proceeds from this festive fundraiser will support the Hangar Theatre’s arts and education programs\, including an exciting selection of mainstage performances\, KIDDSTUFF productions\, and dynamic learning opportunities for young people and emerging artists. \nAll tickets include an “all appetizers” reception catered by Babe’s Burgers\, a selection of themed cocktails and mocktails\, and treats by Via’s Cookies! \n  \nOn Sale Now: The Hangar Hobnob Raffle Fundraiser! through December 16 you can purchase raffle tickets to be eligible to win one of several awesome gift packages highlighting the best in dining\, arts\, entertainment\, and self-care that the region has to offer. Click HERE to purchase tickets online; raffle tickets will also be sold at the Hobnob. You do not need to attend the Hobnob to win or enter the drawing. \n  \nFeaturing:\n \nWith Young Performers:\n \n 
URL:https://hangartheatre.org/event/the-hangar-hobnob/
LOCATION:NY
CATEGORIES:Hangar Fundraising Event
END:VEVENT
BEGIN:VEVENT
DTSTART;TZID=America/New_York:20251213T200000
DTEND;TZID=America/New_York:20251213T200000
DTSTAMP:20260423T043410
CREATED:20251015T140058Z
LAST-MODIFIED:20251017T023727Z
UID:19222-1765656000-1765656000@hangartheatre.org
SUMMARY:DSP Shows: Michael Kosta
DESCRIPTION:DSP Shows: Michael Kosta\nLucky Loser Tour\nSaturday\, December 13 @ 8 pm\n  \nTickets: $42 \n  \nMichael Kosta is an Emmy winning co-Host and Senior Correspondent The Daily Show for Comedy Central. \nHe is well known for his numerous late-night appearances on The Tonight Show\, Conan\, Seth Meyers\, and @midnight. His one-hour Comedy Central stand-up special: Michael Kosta: Detroit. NY. LA. is now streaming on Paramount + and YouTube. Previous to his career in television and comedy\, Kosta was a professional tennis player (ranked #864 in the world) and is still a contributor to the Tennis Channel.  He also hosts the podcast Tennis Anyone\, which can be found on any podcast platform. \nMichael’s first book\, a memoir entitled Lucky Loser will be released March 2025 from Harper Collins.
URL:https://hangartheatre.org/event/dsp-shows-michael-kosta/
LOCATION:NY
CATEGORIES:DSP Shows
END:VEVENT
BEGIN:VEVENT
DTSTART;VALUE=DATE:20251219
DTEND;VALUE=DATE:20251221
DTSTAMP:20260423T043410
CREATED:20251120T182022Z
LAST-MODIFIED:20251120T182022Z
UID:19295-1766102400-1766275199@hangartheatre.org
SUMMARY:Christmas Carol Cocktail Experience
DESCRIPTION:Midnight Creative Presents:\nA Christmas Carol Cocktail Experience\nFriday\, December 19 – Saturday\, December 20\, 2025\n  \nThis holiday season\, experience A Christmas Carol as you’ve never seen it before\, with a dark and immersive twist on Charles Dickens’ iconic ghost story. Condensed for maximum impact\, this reimagined performance transports you to the heart of Victorian London\, following Ebenezer Scrooge on his spirited encounters. Along the way\, savor four holiday-inspired cocktails\, each thoughtfully paired with the evening’s chilling moments. Bah\, Humbug! Don’t miss this limited run of a captivating\, spirited adventure through a timeless classic. Get your tickets today for A Christmas Cocktail Carol in Ithaca! \nPerformances:\nFriday\, December 19 at 6 pm & 8 pm\nSaturday\, December 20 at 4 pm\, 6 pm\, 8 pm\, & 10 pm \n*Note: The Hangar Box Office is not handling ticketing for this event
URL:https://hangartheatre.org/event/christmas-carol-cocktail-experience/
LOCATION:NY
CATEGORIES:Hangar Rental
END:VEVENT
END:VCALENDAR