BEGIN:VCALENDAR
VERSION:2.0
PRODID:-//Hangar - Ithaca, NY - ECPv6.15.18//NONSGML v1.0//EN
CALSCALE:GREGORIAN
METHOD:PUBLISH
X-WR-CALNAME:Hangar - Ithaca, NY
X-ORIGINAL-URL:https://hangartheatre.org
X-WR-CALDESC:Events for Hangar - Ithaca, NY
REFRESH-INTERVAL;VALUE=DURATION:PT1H
X-Robots-Tag:noindex
X-PUBLISHED-TTL:PT1H
BEGIN:VTIMEZONE
TZID:America/New_York
BEGIN:DAYLIGHT
TZOFFSETFROM:-0500
TZOFFSETTO:-0400
TZNAME:EDT
DTSTART:20240310T070000
END:DAYLIGHT
BEGIN:STANDARD
TZOFFSETFROM:-0400
TZOFFSETTO:-0500
TZNAME:EST
DTSTART:20241103T060000
END:STANDARD
BEGIN:DAYLIGHT
TZOFFSETFROM:-0500
TZOFFSETTO:-0400
TZNAME:EDT
DTSTART:20250309T070000
END:DAYLIGHT
BEGIN:STANDARD
TZOFFSETFROM:-0400
TZOFFSETTO:-0500
TZNAME:EST
DTSTART:20251102T060000
END:STANDARD
BEGIN:DAYLIGHT
TZOFFSETFROM:-0500
TZOFFSETTO:-0400
TZNAME:EDT
DTSTART:20260308T070000
END:DAYLIGHT
BEGIN:STANDARD
TZOFFSETFROM:-0400
TZOFFSETTO:-0500
TZNAME:EST
DTSTART:20261101T060000
END:STANDARD
END:VTIMEZONE
BEGIN:VEVENT
DTSTART;VALUE=DATE:20250710
DTEND;VALUE=DATE:20250720
DTSTAMP:20260423T115712
CREATED:20250216T012928Z
LAST-MODIFIED:20250710T203409Z
UID:18737-1752105600-1752969599@hangartheatre.org
SUMMARY:Waitress
DESCRIPTION:Waitress\nBook by Jessie Nelson\nMusic and Lyrics by Sara Bareilles\nBased upon the motion picture written by Adrienne Shelly\n  \nDirected by Shirley Serotsky\nMusic Director: Jeremy Pletter\nChoreographer: Aimee Rials\n  \nJuly 10–19\, 2025 \nJenna\, a waitress and talented pie-baker\, is stuck in a small town and a troubled marriage. When life takes an unexpected turn\, Jenna fears she may have to abandon her dream of opening a pie shop–until a nearby baking contest and the town’s handsome new doctor offer her the tempting possibility of a fresh start. Surrounded by her quirky crew of fellow waitresses and loyal customers\, Jenna summons the secret ingredient she’s been missing all along–courage. Featuring music and lyrics by Grammy Award winner Sara Bareilles\, this hit musical offers a special recipe for finding happiness where we least expect it. \n“Rises to transporting heights\, and sweeps up your heart along with it.”\n—The New York Times \n  \nWaitress is presented through special arrangement with Music Theatre International (MTI). \n  \nTickets on sale now! \n  \nPerformance Schedule: \nThursday\, July 10 7:30 pm (preview)\nFriday\, July 11 7:30 pm (opening night)\nSaturday\, July 12 2:30 pm\nSaturday\, July 12 7:30 pm\nSunday\, July 13 2:30 pm\nTuesday\, July 15 7:30 pm\nWednesday\, July 16 7:30 pm\nThursday\, July 17 7:30 pm\nFriday\, July 18 7:30 pm\nSaturday\, July 19 2:30 pm\nSaturday\, July 19 7:30 pm \nRuntime is approximately 2 hours 30 minutes\, including a 15 minute intermission \nCreative Team:  \nShirley Serotsky\, Director \nAimee Rials\, Choreographer \n  \nJeremy Pletter\, Musical Director \nDeb Sivigny\, Scenic Designer \nJohnna Presby\, Costume Designer \nSara Gosses\, Lighting Designer \nAmanda Werre\, Sound Designer \nAmanda Spooner*\, Production Stage Manager \nLauren Hingle\, Assistant Stage Manager \nCarder Pawlak\, Production Assistant \nRobing Guiver\, Fight Safety/Additional Physical Comedy \nPriscilla Hummel\, Intimacy Directory \nMax Lorn-Krause\, Dialect Coach \n  \nThis production contains themes of domestic abuse\, infidelity\, sexual content\, and emotional distress. Recommended for ages 13 and older.
URL:https://hangartheatre.org/event/waitress/
LOCATION:NY
CATEGORIES:Mainstage
END:VEVENT
BEGIN:VEVENT
DTSTART;VALUE=DATE:20250711
DTEND;VALUE=DATE:20250714
DTSTAMP:20260423T115712
CREATED:20250323T143049Z
LAST-MODIFIED:20250602T232501Z
UID:18852-1752192000-1752451199@hangartheatre.org
SUMMARY:The Velveteen Rabbit
DESCRIPTION:The Velveteen Rabbit\nA Hangar Theatre KIDDSTUFF Production\nAdapted by Kevin Del Aguila\nBased on the book by Margery Williams \nDirected by Sarah Plotkin\n  \nJuly 11–13 \nAdapted from the classic children’s book\, The Velveteen Rabbit is a joyous celebration of imagination\, friendship\, and the power of a child’s love. In this innovative take on the timeless story\, an ensemble of actors bring both the playroom and the great outdoors to life with energy\, creativity\, and theatrical magic. \nPerformances:\nFriday\, July 11 at 10 am & noon\nSaturday\, July 12 at 10 am & noon\nSunday\, July 13 at noon \nThe Velveteen Rabbit will take place outdoors\, under the KIDDSTUFF Tent.\n  \nTickets on sale now!
URL:https://hangartheatre.org/event/the-velveteen-rabbit/
LOCATION:Hangar Theatre Outdoor Stage\, 801 Taughannock Blvd.\, Ithaca\, NY\, 14850\, United States
CATEGORIES:KIDDSTUFF
END:VEVENT
BEGIN:VEVENT
DTSTART;VALUE=DATE:20250724
DTEND;VALUE=DATE:20250728
DTSTAMP:20260423T115712
CREATED:20250327T142151Z
LAST-MODIFIED:20250722T234658Z
UID:18868-1753315200-1753660799@hangartheatre.org
SUMMARY:Naked Mole Rat Gets Dressed: The Rock Experience
DESCRIPTION:Naked Mole Rat Gets Dressed: The Rock Experience\nA Hangar Theatre KIDDSTUFF Production\nWritten by Mo Willems\nMusic by Deborah Wicks La Puma\nBased on the book: Naked Mole Rat Gets Dressed by Mo Willems \nDirected by Adara Alston\nMusic Director: Enaw Elonge \nJuly 24–27 \nKids (and their grown-ups) will love this rock ‘n roll parable with a worthy message\, based on the hit children’s book by Mo Willems. When Wilbur discovers his creative spirit and develops a love for fashion\, it turns the expectations of his–well\, totally naked–world upside down. With rock and roll music\, expressive lyrics\, and unique style\, Wilbur proves to everyone that the best thing you can be\, is exactly who you are! \nPerformances: \nThursday\, July 24 at 10 am & noon\nFriday\, July 25 at 10 am & noon\nSaturday\, July 26 at 10 am & noon\nSunday\, July 27 at noon \nRuntime is approximately 55 minutes. \nNaked Mole Rat Gets Dressed will take place outdoors\, under the KIDDSTUFF Tent.\n  \nPlease note this production contains flashing lights (NOT strobing\, but still notable).\nWhile sensory support materials are available at all Hangar KIDDSTUFF performances\, the Saturday\, July 26 performance at Noon will also have a sensory sensitive version of the lighting. Please email boxoffice@hangartheatre.org if you have any questions. \nTickets on sale now!
URL:https://hangartheatre.org/event/naked-mole-rat-gets-dressed-the-rock-experience/
LOCATION:NY
CATEGORIES:KIDDSTUFF
END:VEVENT
BEGIN:VEVENT
DTSTART;VALUE=DATE:20250726
DTEND;VALUE=DATE:20250803
DTSTAMP:20260423T115712
CREATED:20250216T012901Z
LAST-MODIFIED:20250711T022627Z
UID:18740-1753488000-1754179199@hangartheatre.org
SUMMARY:Ms. Holmes & Ms. Watson\, Apt. 2B
DESCRIPTION:Ms. Holmes & Ms. Watson\, Apt. 2B\nBy Kate Hamill\nDirected by Jen Pearcy-Edwards \n  \nJuly 26–August 2\, 2025 \nA clever\, comedic\, contemporary take on Sir Arthur Conan Doyle’s famous sleuth and sidekick duo by Lansing-born Ithaca College alumna Kate Hamill. This fast-paced re-telling of the world’s most famous detective story brings oddball female roommates Sherlock Holmes & Joan Watson together as they join forces to solve outlandish cases in post-pandemic London. The two create a dynamic duo–solving mysteries and outwitting masterminds–until they come face to face with a villain who seems to have all of the answers. \n“A witty\, intelligent farce with just enough slapstick to keep you from taking things too seriously…the perfect antidote to a stressful day and a guaranteed laugh.”\n—WRPO\, Providence\, Rhode Island \n  \n  \nTickets on sale now! \n  \nPerformance Schedule: \nSaturday\, July 26 2:30 pm (preview)\nSaturday\, July 26 7:30 pm (opening night)\nSunday\, July 27 2:30 pm\nTuesday\, July 29 7:30 pm\nWednesday\, July 30 7:30 pm\nThursday\, July 31 7:30 pm\nFriday\, August 1 7:30 pm\nSaturday\, August 2 2:30 pm\nSaturday\, August 2 7:30 pm \nRuntime is approximately 2 hours 15 minutes\, including a 15 minute intermission \nThis production contains theatrical weapons\, violence\, and mild sexual references. Recommended for ages 13 and older. \nCreative Team:  \nJen Pearcy-Edwards (Director) \nDeb Sivigny (Scenic & Costume Designer) \nTyler Perry (Lighting Designer) \nAriana Cardoza (Sound Designer) \nJen Schilansky (Production Stage Manager) \nQuin Frederich (Assistant Stage Manager)
URL:https://hangartheatre.org/event/ms-holmes-ms-watson-apt-2b/
LOCATION:NY
CATEGORIES:Mainstage
END:VEVENT
END:VCALENDAR