BEGIN:VCALENDAR
VERSION:2.0
PRODID:-//Hangar - Ithaca, NY - ECPv6.15.18//NONSGML v1.0//EN
CALSCALE:GREGORIAN
METHOD:PUBLISH
X-WR-CALNAME:Hangar - Ithaca, NY
X-ORIGINAL-URL:https://hangartheatre.org
X-WR-CALDESC:Events for Hangar - Ithaca, NY
REFRESH-INTERVAL;VALUE=DURATION:PT1H
X-Robots-Tag:noindex
X-PUBLISHED-TTL:PT1H
BEGIN:VTIMEZONE
TZID:America/New_York
BEGIN:DAYLIGHT
TZOFFSETFROM:-0500
TZOFFSETTO:-0400
TZNAME:EDT
DTSTART:20250309T070000
END:DAYLIGHT
BEGIN:STANDARD
TZOFFSETFROM:-0400
TZOFFSETTO:-0500
TZNAME:EST
DTSTART:20251102T060000
END:STANDARD
BEGIN:DAYLIGHT
TZOFFSETFROM:-0500
TZOFFSETTO:-0400
TZNAME:EDT
DTSTART:20260308T070000
END:DAYLIGHT
BEGIN:STANDARD
TZOFFSETFROM:-0400
TZOFFSETTO:-0500
TZNAME:EST
DTSTART:20261101T060000
END:STANDARD
BEGIN:DAYLIGHT
TZOFFSETFROM:-0500
TZOFFSETTO:-0400
TZNAME:EDT
DTSTART:20270314T070000
END:DAYLIGHT
BEGIN:STANDARD
TZOFFSETFROM:-0400
TZOFFSETTO:-0500
TZNAME:EST
DTSTART:20271107T060000
END:STANDARD
END:VTIMEZONE
BEGIN:VEVENT
DTSTART;TZID=America/New_York:20260501T193000
DTEND;TZID=America/New_York:20260501T193000
DTSTAMP:20260421T044134
CREATED:20260319T133853Z
LAST-MODIFIED:20260319T182254Z
UID:19698-1777663800-1777663800@hangartheatre.org
SUMMARY:Wide Awake
DESCRIPTION:Hangar Theatre’s In Flight Entertainment Series Presents\nWide Awake: A U2 Experience\nFriday\, May 1 @ 7:30 pm\nTickets: $35 \nWide Awake – A U2 Experience is the fastest growing tribute to U2 in the United States. They perform material spanning all 40+ years of the magnificent U2 catalog. Their mission is to give their audience an authentic live U2 experience while musically staying true to U2’s iconic studio recordings. Wide Awake is made up of professional touring musicians who are as crazy about U2 as the fans who have been filling venues everywhere the band has played since the group’s inception in 2021. They have built up a sizable library including all the big hits such as “Where the Streets Have No Name\,” Still Haven’t Found What I’m Looking For” and “With or Without You\, but it’s the material that isn’t played often\, even by U2 that makes these Wide Awake shows memorable. “An Cat Dubh\,” “Into the Heart\,” “Wild Horses\,” “Trip Through Your Wires\,” “Running To Stand Still\,” Unforgettable Fire” and “Stay (so close so far away)” and so many more. \n  \n \n 
URL:https://hangartheatre.org/event/wide-awake/
LOCATION:NY
CATEGORIES:In Flight Entertainment
END:VEVENT
BEGIN:VEVENT
DTSTART;TZID=America/New_York:20260502T200000
DTEND;TZID=America/New_York:20260502T200000
DTSTAMP:20260421T044134
CREATED:20260113T150019Z
LAST-MODIFIED:20260116T163726Z
UID:19438-1777752000-1777752000@hangartheatre.org
SUMMARY:The Steel Wheels
DESCRIPTION:DSP Shows Presents: The Steel Wheels\nSaturday\, May 2 @ 8 pm\nTickets: On Sale Friday\, January 16 \nNote: The Hangar Theatre Box Office does not handle ticketing for DSP Shows. If you have questions or need assistance with ticketing\, please contact them directly: info@dspshows.com or 607-280-2900. \n20 years is a long time to spend doing anything at all. It’s an age for any group of people to sustain a collective effort. For a band on the road\, 20 years can be more than a lifetime. Yet\, after 2 decades of making music together in living rooms\, listening rooms\, clubs\, theaters\, and festival stages\, The Steel Wheels are still growing\, still pushing\, still at it\, and they’re marking the occasion with the release of their 9th studio album\, “The Steel Wheels”. \nFollowing the release of “Sideways” in 2024\, their 3rd record with producer Sam Kassirer at his Great North Sound Society studio in interior Maine\, the band felt it was time for a change of scene. As the group began to select songs for a new album\, they also had to find an answer to the question of where they would get down to the work of record-making. They didn’t know that answer was going to knock on their back door. \nAt the band’s 2024 Red Wing Roots festival\, held each summer near the group’s home base of Harrisonburg\, VA\, banjo player and songwriter Trent Wagler spied producer and engineer D. James Goodwin (Goose\, Bonny Light Horseman\, I’m With Her) in the crowd and later reached out to learn what he was doing so far from his home turf of New York. It happened that Goodwin\, who mixed the band’s 2019 album “Over The Trees”\, had just pulled up stakes for the Shenandoah Valley and was setting up a new studio on the band’s doorstep. Several months and one video call later\, Wagler\, fiddler Eric Brubaker\, multi-instrumentalist Jay Lapp\, drummer/percussionist Kevin Garcia\, and bass\nplayer Jeremy Darrow gathered in the new space\, The Isokon\, snug against the snowy Virginia winter\, to begin recording their next album. \nThe process that Goodwin cultivated was fluid and swift. Demo listening in the morning flowed into tracking the whole band live in one room. The session was punctuated by peals of laughter and occasional tears as the group kept themselves in the moment\, leaning in to every emotion and embracing that vulnerability. As they worked\, the music took shape in the moment\, right in front of the microphones\, each participant listening and responding as the songs flickered to life. By dinner time the songs of the day were complete and talk moved to the next day’s work. \nThe album that resulted from this process captures the multifaceted band in full-flight\, pivoting effortlessly between the folk rock band they’ve grown into over 20 years\, and the harmony-centric acoustic ensemble that they’ve been since the beginning.The band puts their impressive range on display throughout “The Steel Wheels”; energy\, insight\, and humor\, balance with tender\, highly personal moments of masterful restraint and expression as the album unfolds. As ever\, the band challenges themselves to find new ways through the music\, using space and\, at moments\, reinventing their approach to the string band format. \nAs usual\, Wagler’s keen lyrics provide insight by posing big questions. At first blush “Easy” sounds like the song of the summer\, but a deeper listen asks the audience to consider whether it’s worth the cost to have the world waiting for us on the other side of our screens. “Everything is easy”\, but is it really? \nBeyond our glowing devices “Go Back” studies the complexity of our relationships and the time we spend with those close to us. It’s easy to say that we must take the bad with the good\, it’s a challenge to seek to understand how our joy and sadness are entwined; that they are not opposing feelings\, but sibling emotions. \n“Keep On Dancing” offers the listener a greater challenge; to take a step back from distraction and our self-imposed tasks\, to look beyond the static of the day\, and to see the beauty all around us. The song gently implores us to take a breath and be still so that we can glimpse the things that are actually important. \nThe Steel Wheels have kept their stride for longer than most bands survive. After 20 years hard at work “The Steel Wheels” is an album of creative maturity with a restless sense of adventure. Here’s to 20 more.
URL:https://hangartheatre.org/event/the-steel-wheels/
LOCATION:Hangar Theatre\, 801 Taughannock Blvd\, Ithaca\, NY\, United States
CATEGORIES:DSP Shows
END:VEVENT
BEGIN:VEVENT
DTSTART;VALUE=DATE:20260514
DTEND;VALUE=DATE:20260518
DTSTAMP:20260421T044134
CREATED:20260327T212304Z
LAST-MODIFIED:20260402T235833Z
UID:19733-1778716800-1779062399@hangartheatre.org
SUMMARY:Robin Hood
DESCRIPTION:The Probably Improbable Adventures of Robin Hood\nBy Colin Smith\nMay 14–17\, 2026 \nStep into Sherwood Forest for the legend of Robin Hood like never before! In The Probably Improbable Adventures of Robin Hood\, Robin and Marian form an unlikely partnership that shouldn’t work but somehow does\, as clever ideas\, daring antics\, and an occasional puppet send the story careening through comic chaos. Expect quick wit\, fast-paced fun\, and a story that just barely stays on track—if the storytellers can keep up. \nPerformances:\nThursday\, May 14 at 10 am\nFriday\, May 15 at 10 am\nFriday\, May 15 at Noon\nSaturday\, May 16 at 10 am\nSaturday\, May 16 at Noon\nSunday\, May 17 at 11 am \nSubscriber seating opens on Friday\, April 3; Single tickets go on sale April 10 \nNote: Robin Hood takes place indoors on the Hangar stage
URL:https://hangartheatre.org/event/robin-hood/
LOCATION:NY
CATEGORIES:KIDDSTUFF
END:VEVENT
BEGIN:VEVENT
DTSTART;TZID=America/New_York:20260529T193000
DTEND;TZID=America/New_York:20260529T193000
DTSTAMP:20260421T044134
CREATED:20260320T234421Z
LAST-MODIFIED:20260409T025914Z
UID:19707-1780083000-1780083000@hangartheatre.org
SUMMARY:Europa
DESCRIPTION:Hangar Theatre’s In Flight Entertainment Series Presents\nEuropa – “Celebrating the Music of Carlos Santana”\nFriday\, May 29 @ 7:30 pm\nTickets: $35 \nEUROPA is a high-energy 7-piece group celebrating the iconic music and spirit of Carlos Santana. With powerful Latin percussion\, soaring guitar melodies and dynamic improvisation the group brings Santana’s greatest hits to life.\nWith songs spanning Carlos’ career from “Oye Como Va”\, “Black Magic Woman”\, and “Evil Ways” to the wildly successful “Smooth” and “Maria\, Maria”\, Europa’s musicians\, from the Latin\, Rock\, R&B\, Jazz\, and Jam Band genres\, play them all with authenticity\, fire and passion!
URL:https://hangartheatre.org/event/europa/
LOCATION:NY
CATEGORIES:In Flight Entertainment
END:VEVENT
BEGIN:VEVENT
DTSTART;VALUE=DATE:20260618
DTEND;VALUE=DATE:20260628
DTSTAMP:20260421T044134
CREATED:20260207T161546Z
LAST-MODIFIED:20260415T005811Z
UID:19573-1781740800-1782604799@hangartheatre.org
SUMMARY:Fun Home
DESCRIPTION:Fun Home\nMusic by Jeanine Tesori\nBook and Lyrics by Lisa Kron\nBased on the Graphic Novel by Alison Bechdel\nWinner of five 2015 Tony Awards\, including Best Musical\, Best Score and Best Book\nFinalist for the 2014 Pulitzer Prize for Drama \nJune 18–27\, 2026 \nIn this emotionally charged musical\, Alison moves through time to visit her childhood\, college years\, and early adulthood–unravelling her own coming-of-age and coming-out story while trying to make sense of the twisty\, layered relationship she has with her father and their shared hometown. Based on the best-selling graphic memoir by Alison Bechdel\, Fun Home features a soaring score by Jeanine Tesori that ranges from rousing 70s pop to wistful\, shimmering ballads and a witty\, heartfelt book by Lisa Kron. \n“This extraordinary musical…pumps oxygenating fresh air into Broadway.” —The New York Times \n“A beautiful heartbreaker of a musical…Fun Home finds a shining clarity that lights up the night.” —The New York Times \nPerformances\nThursday\, June 18 at 7:30 pm (preview)\nFriday\, June 19 at 7:30 pm (opening)\nSaturday\, June 20 at 2:30 & 7:30 pm\nSunday\, June 21 at 2:30 pm\nTuesday\, June 23 at 7:30 pm\nWednesday\, June 24 at 7:30 pm\nThursday\, June 25 at 7:30 pm\nFriday\, June 26 at 7:30 pm\nSaturday\, June 27 at 2:30 & 7:30 pm \nTickets on sale now! \nRuntime: Approximately 100 minutes \n  \nFun Home is presented by arrangement with Concord Theatricals.\nwww.concordtheatricals.com
URL:https://hangartheatre.org/event/fun-home/
LOCATION:Hangar Theatre\, 801 Taughannock Blvd\, Ithaca\, NY\, United States
CATEGORIES:Mainstage
END:VEVENT
BEGIN:VEVENT
DTSTART;VALUE=DATE:20260709
DTEND;VALUE=DATE:20260719
DTSTAMP:20260421T044134
CREATED:20260207T162438Z
LAST-MODIFIED:20260415T010802Z
UID:19582-1783555200-1784419199@hangartheatre.org
SUMMARY:Dear Evan Hansen
DESCRIPTION:Dear Evan Hansen\nBook by Steven Levenson\nMusic and Lyrics by Benj Pasek & Justin Paul\nWinner of six 2017 Tony Awards\, including Best Musical\, Best Original Score and Best Book \nJuly 9–18\, 2026 \nMeet Evan Hansen: a sensitive 17-year-old who has spent his life feeling like he’s on the outside looking in. But when a tragedy upends his community\, he is thrust into the center of a rapidly evolving controversy and given the opportunity of a lifetime – the chance to be somebody else. As his carefully constructed web of lies starts to come undone\, Evan must decide just how much he’s willing to risk for the connection he so desperately craves – and whether the cost of fitting in is more than he can bear. \n“One of the most remarkable shows in musical-theater history” —The Washington Post \nPerformances\nThursday\, July 9 at 7:30 pm (preview)\nFriday\, July 10 at 7:30 pm (opening)\nSaturday\, July 11 at 2:30 & 7:30 pm\nSunday\, July 12 at 2:30 pm\nTuesday\, July 14 at 7:30 pm\nWednesday\, July 15 at 7:30 pm\nThursday\, July 16 at 7:30 pm\nFriday\, July 17 at 7:30 pm\nSaturday\, July 18 at 2:30 & 7:30 pm \nTickets on sale now! \nRuntime: Approximately 2 hours 35 minutes \nDear Evan Hansen is presented through special arrangement with Musical Theatre International (MTI). All authorized performance materials are also supplied by MTI. www.mtishows.com
URL:https://hangartheatre.org/event/dear-evan-hansen/
LOCATION:NY
CATEGORIES:Mainstage
END:VEVENT
BEGIN:VEVENT
DTSTART;VALUE=DATE:20260710
DTEND;VALUE=DATE:20260713
DTSTAMP:20260421T044134
CREATED:20260328T203002Z
LAST-MODIFIED:20260402T235912Z
UID:19750-1783641600-1783900799@hangartheatre.org
SUMMARY:Custard the Dragon
DESCRIPTION:The Tales of Custard the Dragon\nBook Adapted by Mary Hall Surface\nfrom the stories by Ogden Nash\nMusic by Brad Ross\nLyrics by Danny Whitman\nMay 14–27\, 2026 \nCustard is an anxious dragon whose friends–a dog\, a cat\, and a little gray mouse–mock his nervous nature in this charming family musical based on the work of the beloved American poet Ogden Nash. When a pirate bursts into their home\, the others hide\, but Custard bravely confronts the invader\, revealing his true strength and showing everyone that real courage can come from the most unexpected places. \nPerformances: \nFriday\, July 10 @ 10 am\nFriday\, July 10 @ Noon\nSaturday\, July 11 @ 10 am\nSaturday\, July 11 @ Noon\nSunday\, July 12 @ Noon \nSubscriber seating opens Friday\, April 3; Single tickets go on sale April 21. \nNote: The Tales of Custard the Dragon takes place outside in our outdoor tent; the seats in the back two rows of all sections are on raised platforms.
URL:https://hangartheatre.org/event/custard-the-dragon/
LOCATION:Hangar Theatre Outdoor Stage\, 801 Taughannock Blvd.\, Ithaca\, NY\, 14850\, United States
CATEGORIES:KIDDSTUFF
END:VEVENT
BEGIN:VEVENT
DTSTART;VALUE=DATE:20260724
DTEND;VALUE=DATE:20260727
DTSTAMP:20260421T044134
CREATED:20260328T203719Z
LAST-MODIFIED:20260402T235949Z
UID:19754-1784851200-1785110399@hangartheatre.org
SUMMARY:Finding Nemo
DESCRIPTION:Finding Nemo\nBook\, Music & Lyrics by Kristen Anderson-Lopez and Robert Lopez\nBook Adapted by Lindsey Anderson\nMusic and Orchestrations Adapted and Arranged by Myrna Conn\nJuly 24–26\, 2026 \nIn the musical adaptation of the beloved film\, overly-protective clownfish dad Marlin searches desperately for little Nemo\, who has been captured by a scuba diver and imprisoned in a fish tank in Australia. As father and son battle danger and fear to reunite\, they meet wonderful friends who help them go with the flow and keep on swimming\, no matter how dark the journey seems. \nPerformances:\nFriday\, July 24 @ 10 am\nFriday\, July 24 @ Noon\nSaturday\, July 25 @ 10 am\nSaturday\, July 25 @ Noon\nSunday\, July 26 @ Noon \nSubscriber seating opens Friday\, April 3; Single tickets go on sale April 21 \nNote: Finding Nemo takes place in our outdoor tent; seats in the back two rows of all sections are on raised platforms.
URL:https://hangartheatre.org/event/finding-nemo/
LOCATION:Hangar Theatre Outdoor Stage\, 801 Taughannock Blvd.\, Ithaca\, NY\, 14850\, United States
CATEGORIES:KIDDSTUFF
END:VEVENT
BEGIN:VEVENT
DTSTART;VALUE=DATE:20260725
DTEND;VALUE=DATE:20260803
DTSTAMP:20260421T044134
CREATED:20260207T163325Z
LAST-MODIFIED:20260419T134546Z
UID:19590-1784937600-1785715199@hangartheatre.org
SUMMARY:Eureka Day
DESCRIPTION:Eureka Day\nBy Jonathan Spector\nWinner of the 2025 Tony Award for Best Revival \nJuly 25–August 2 \nAt Eureka Day School in Berkeley\, California\, all decisions are made by consensus\, diversity of opinion is valued\, and vaccinations are a personal matter. But when a mumps outbreak hits the school\, tensions rise\, truth becomes subjective\, and community conversations reach a hilarious fever pitch. Now the board of directors must confront the central question of our time: how do you find consensus when you can’t agree on the facts? A remarkably relevant comedy for our times. \n“A hilarious poison-pen satire”—The New York Times \n“Irresistibly hilarious”—The Washington Post \nPerformances\nSaturday\, July 25 at 7:30 pm (preview)\nSunday\, July 26 at 2:30 pm (opening)\nTuesday\, July 28 at 7:30 pm\nWednesday\, July 29 at 7:30 pm\nThursday\, July 30 at 7:30 pm\nFriday\, July 31 at 7:30 pm\nSaturday\, August 1 at 2:30 & 7:30 pm\nSunday\, August 2 at 2:30 pm \nTickets on sale now! \nEureka Day is presented by arrangement with Concord Theatricals on behalf of Dramatists Play Service. www.concordtheatricals.com \n\n\n\n 
URL:https://hangartheatre.org/event/eureka-day/
LOCATION:NY
CATEGORIES:Mainstage
END:VEVENT
BEGIN:VEVENT
DTSTART;TZID=America/New_York:20260727T193000
DTEND;TZID=America/New_York:20260727T193000
DTSTAMP:20260421T044134
CREATED:20260218T011508Z
LAST-MODIFIED:20260327T212538Z
UID:19613-1785180600-1785180600@hangartheatre.org
SUMMARY:Brassquatch
DESCRIPTION:A Concert Reading of\nBrassquatch: The Fall Creek Brass Band Musical!\nMusic composed by Alec Staples\nLyrics by Becca Blackmore and Alec Staples\nBook by Becca Blackmore\nConceived by Alec Staples\, Sarah Plotkin\, Becca Blackmore and the Fall Creek Brass Band.\nJuly 27\, 2026 at 7:30 pm \nA New Mythical Adventure from the Fall Creek Brass Band! \nThe Fall Creek Brass Band is creating an original musical. Step into the hidden world of the Brassquatch\, a legendary forest-dwelling community with a sound as big as their footprints. When our young hero fails his coming-of-age ritual\, he’s thrust into an unexpected journey to discover who he is\, where he belongs\, and what it truly means to find your voice. \nBlending New Orleans-style brass\, gospel\, pop\, and musical theatre\, Brassquatch: The Fall Creek Brass Band Musical! will bring a funky\, joyful sound to the stage\, powered by the live energy of the Fall Creek Brass Band. \nThe concert reading will be produced with minimal staging and scripts in hand\, with a focus on the storytelling and the incredible original music of the Fall Creek Brass Band. \nTickets:\nSupporter $34\nRegular $22\nSubscriber $17\nDiscount $12 \n(Prices include all processing fees) \nTickets on sale now!
URL:https://hangartheatre.org/event/brassquatch/
LOCATION:Hangar Theatre\, 801 Taughannock Blvd\, Ithaca\, NY\, United States
CATEGORIES:Mainstage
END:VEVENT
BEGIN:VEVENT
DTSTART;VALUE=DATE:20260731
DTEND;VALUE=DATE:20260803
DTSTAMP:20260421T044134
CREATED:20260403T140023Z
LAST-MODIFIED:20260403T031051Z
UID:19769-1785456000-1785715199@hangartheatre.org
SUMMARY:Beetlejuice JR.
DESCRIPTION:The Hangar Next Gen Musical Presents: Beetlejuice\, JR.\nMusic and Lyrics by Eddie Perfect\nBook by Scott Brown & Anthony King\nBased on the Geffen Company Picture\, with a story by Michael McDowell & Larry Wilson\nJuly 31–August 2\, 2026 \nThe ghost-with-the-most comes to the stage in Beetlejuice JR.\, the frightfully funny musical based on Tim Burton’s iconic film. Lydia Deetz is a strange and unusual teenager\, whose life takes a supernatural turn when she meets the mischievous ghost Beetlejuice. With catchy songs\, memorable characters\, and a heartfelt story about family and finding your place in the world\, Beetlejuice JR. is a haunting and hilarious show that will delight audiences of all ages.\n\nPerformances:\nFriday\, July 31 at 10 am\nFriday\, July 31 at Noon\nSaturday\, August 1 at 10 am\nSaturday\, August 1 at Noon\nSunday\, August 2 at Noon\n\nSubscriber seating opens Friday\, April 3; Single tickets go on sale April 21\nNote: this show takes place indoors on the Hangar stage.
URL:https://hangartheatre.org/event/beetlejuice-jr/
LOCATION:Hangar Theatre Indoor Neiderkorn Stage\, 801 Taughannock Blvd.\, Ithaca\, NY\, 14850\, United States
CATEGORIES:KIDDSTUFF
END:VEVENT
BEGIN:VEVENT
DTSTART;VALUE=DATE:20260808
DTEND;VALUE=DATE:20260810
DTSTAMP:20260421T044134
CREATED:20260218T013539Z
LAST-MODIFIED:20260327T212605Z
UID:19618-1786147200-1786319999@hangartheatre.org
SUMMARY:Resilience
DESCRIPTION:Resilience\nby Samite\nAugust 8–9\, 2026 \nBeautiful\, powerful\, and personal\, Resilience is a solo show with music that combines the urgency of now with a timeless story of healing. Internationally recognized musician\, humanitarian\, and artist Samite tells the story of his life\, from escaping the nightmare 1980s Uganda to learning to heal others with the power of music. It is an inspiring performance written and performed by Samite\, a multi-instrumentalist and powerful storyteller. \nInternationally recognized musician\, humanitarian\, and artist Samite shares his life story in this multi-media one-man play. He tells the story of his emergence from the nightmare of life under Amin and Milton Obote to being a healer through the power of music. \nSamite often includes a story or two in his concerts\, but now he has turned his entire show inside out and the result is raw and bracing. Both performances of this show include an extended post-performance Q&A for authentic audience connection. \n“Blending beautiful traditional African music with stories of hope and tolerance… Music definitely heals – A must see!” – Karen Wacks\, Berklee College of Music \nPerformances:\nSaturday\, August 8 at 7:30 pm\nSunday\, August 9 at 2:30 pm \nTickets:\nAdult $44\nSubscriber $27\nStudent $17 \n(Prices include all processing fees) \nTickets on sale now!
URL:https://hangartheatre.org/event/resilience/
LOCATION:Hangar Theatre\, 801 Taughannock Blvd\, Ithaca\, NY\, United States
CATEGORIES:Mainstage
END:VEVENT
END:VCALENDAR