BEGIN:VCALENDAR
VERSION:2.0
PRODID:-//Hangar - Ithaca, NY - ECPv6.15.18//NONSGML v1.0//EN
CALSCALE:GREGORIAN
METHOD:PUBLISH
X-ORIGINAL-URL:https://hangartheatre.org
X-WR-CALDESC:Events for Hangar - Ithaca, NY
REFRESH-INTERVAL;VALUE=DURATION:PT1H
X-Robots-Tag:noindex
X-PUBLISHED-TTL:PT1H
BEGIN:VTIMEZONE
TZID:America/New_York
BEGIN:DAYLIGHT
TZOFFSETFROM:-0500
TZOFFSETTO:-0400
TZNAME:EDT
DTSTART:20240310T070000
END:DAYLIGHT
BEGIN:STANDARD
TZOFFSETFROM:-0400
TZOFFSETTO:-0500
TZNAME:EST
DTSTART:20241103T060000
END:STANDARD
BEGIN:DAYLIGHT
TZOFFSETFROM:-0500
TZOFFSETTO:-0400
TZNAME:EDT
DTSTART:20250309T070000
END:DAYLIGHT
BEGIN:STANDARD
TZOFFSETFROM:-0400
TZOFFSETTO:-0500
TZNAME:EST
DTSTART:20251102T060000
END:STANDARD
BEGIN:DAYLIGHT
TZOFFSETFROM:-0500
TZOFFSETTO:-0400
TZNAME:EDT
DTSTART:20260308T070000
END:DAYLIGHT
BEGIN:STANDARD
TZOFFSETFROM:-0400
TZOFFSETTO:-0500
TZNAME:EST
DTSTART:20261101T060000
END:STANDARD
END:VTIMEZONE
BEGIN:VEVENT
DTSTART;VALUE=DATE:20250920
DTEND;VALUE=DATE:20250921
DTSTAMP:20260421T154024
CREATED:20250827T001624Z
LAST-MODIFIED:20250916T164334Z
UID:19119-1758326400-1758412799@hangartheatre.org
SUMMARY:The Kaplan Cousins Improvise
DESCRIPTION:The Kaplan Cousins Improvise\nSaturday\, September 20 @ 7:30 pm\nTickets: $12 \nSelect ticket type “Show Only” at checkout to purchase tickets to the show; you can also register for the Improv Workshop Saturday afternoon by selecting ticket type “Workshop + Show” – registration includes admission to the show! \nIlan and Gavin Kaplan have been improvising together for 8 years\, and have known each other for 31. Together\, they have taught workshops and performed all around NYC and beyond\, including their undefeated run on Improv Cagematch New York\, where they won 14x in a row with their team\, confusingly named “The Kaplan Brothers”. At this show\, Ilan and Gavin will bring the chemistry they’ve been building their entire lives to a hilarious improv performance that creates an entire show on the spot out of a single word suggestion. Don’t believe it’s possible? Come see to find out!\nOpening for the Kaplan Cousins are members of Ithaca’s own Third Place Theater\, a local improv comedy theater that hosts shows\, jams\, and other events almost every week. Stay in touch with the Hangar to learn about opportunities for you to learn and perform improv in Ithaca!\n\n\n\n\n\n\nImprov Workshop\nSaturday\, September 20 from 12–3 pm\nRegistration: $30  \nTo register\, follow the ticket link and select the “Workshop + Show” ticket type at checkout \nWe all improvise every day when we move through our lives and talk to the people around us. Improv comedy simply uses these skills we’ve been building our whole lives and applies them to performance on stage. This one-time workshop\, led by Ilan Kaplan\, will teach students the basic building blocks of performing comedy through the lens of improv. Students will learn\, and put into practice\, concepts like “yes\, and\,” agreement\, playing to the top of your intelligence\, and group mind. These skills don’t just serve as fundamentals in comedy! Learning how to listen better to the people around you and to build off other people’s ideas in a constructive way can help you at work\, with your friends\, and around the dinner table. Entry to this class comes with free admittance to the improv show that night\, also at the Hangar Theatre. \n(Age 16+)
URL:https://hangartheatre.org/event/the-kaplan-cousins-improvise/
CATEGORIES:In Flight Entertainment
END:VEVENT
END:VCALENDAR