BEGIN:VCALENDAR
VERSION:2.0
PRODID:-//Hangar - Ithaca, NY - ECPv6.15.18//NONSGML v1.0//EN
CALSCALE:GREGORIAN
METHOD:PUBLISH
X-WR-CALNAME:Hangar - Ithaca, NY
X-ORIGINAL-URL:https://hangartheatre.org
X-WR-CALDESC:Events for Hangar - Ithaca, NY
REFRESH-INTERVAL;VALUE=DURATION:PT1H
X-Robots-Tag:noindex
X-PUBLISHED-TTL:PT1H
BEGIN:VTIMEZONE
TZID:America/New_York
BEGIN:DAYLIGHT
TZOFFSETFROM:-0500
TZOFFSETTO:-0400
TZNAME:EDT
DTSTART:20250309T070000
END:DAYLIGHT
BEGIN:STANDARD
TZOFFSETFROM:-0400
TZOFFSETTO:-0500
TZNAME:EST
DTSTART:20251102T060000
END:STANDARD
BEGIN:DAYLIGHT
TZOFFSETFROM:-0500
TZOFFSETTO:-0400
TZNAME:EDT
DTSTART:20260308T070000
END:DAYLIGHT
BEGIN:STANDARD
TZOFFSETFROM:-0400
TZOFFSETTO:-0500
TZNAME:EST
DTSTART:20261101T060000
END:STANDARD
BEGIN:DAYLIGHT
TZOFFSETFROM:-0500
TZOFFSETTO:-0400
TZNAME:EDT
DTSTART:20270314T070000
END:DAYLIGHT
BEGIN:STANDARD
TZOFFSETFROM:-0400
TZOFFSETTO:-0500
TZNAME:EST
DTSTART:20271107T060000
END:STANDARD
END:VTIMEZONE
BEGIN:VEVENT
DTSTART;TZID=America/New_York:20260321T190000
DTEND;TZID=America/New_York:20260321T213000
DTSTAMP:20260421T073303
CREATED:20260116T170538Z
LAST-MODIFIED:20260116T170538Z
UID:19472-1774119600-1774128600@hangartheatre.org
SUMMARY:FLEX Wrestling
DESCRIPTION:DMAC Promotions Presents FLEX Wrestling: Road Trip\nSaturday\, March 21 from 7–9:30 pm\nTickets on sale now! \nFLEX Wrestling makes it’s Ithaca\, NY debut live at The Hangar Theatre featuring former WWE Star Carlito! \n \nNote: The producing organization\, not the Hangar Theatre Box Office\, is handling ticketing for this event.
URL:https://hangartheatre.org/event/flex-wrestling/
LOCATION:Hangar Theatre\, 801 Taughannock Blvd\, Ithaca\, NY\, United States
CATEGORIES:Hangar Rental
END:VEVENT
END:VCALENDAR