BEGIN:VCALENDAR
VERSION:2.0
PRODID:-//Hangar - Ithaca, NY - ECPv6.15.18//NONSGML v1.0//EN
CALSCALE:GREGORIAN
METHOD:PUBLISH
X-ORIGINAL-URL:https://hangartheatre.org
X-WR-CALDESC:Events for Hangar - Ithaca, NY
REFRESH-INTERVAL;VALUE=DURATION:PT1H
X-Robots-Tag:noindex
X-PUBLISHED-TTL:PT1H
BEGIN:VTIMEZONE
TZID:America/New_York
BEGIN:DAYLIGHT
TZOFFSETFROM:-0500
TZOFFSETTO:-0400
TZNAME:EDT
DTSTART:20250309T070000
END:DAYLIGHT
BEGIN:STANDARD
TZOFFSETFROM:-0400
TZOFFSETTO:-0500
TZNAME:EST
DTSTART:20251102T060000
END:STANDARD
BEGIN:DAYLIGHT
TZOFFSETFROM:-0500
TZOFFSETTO:-0400
TZNAME:EDT
DTSTART:20260308T070000
END:DAYLIGHT
BEGIN:STANDARD
TZOFFSETFROM:-0400
TZOFFSETTO:-0500
TZNAME:EST
DTSTART:20261101T060000
END:STANDARD
BEGIN:DAYLIGHT
TZOFFSETFROM:-0500
TZOFFSETTO:-0400
TZNAME:EDT
DTSTART:20270314T070000
END:DAYLIGHT
BEGIN:STANDARD
TZOFFSETFROM:-0400
TZOFFSETTO:-0500
TZNAME:EST
DTSTART:20271107T060000
END:STANDARD
END:VTIMEZONE
BEGIN:VEVENT
DTSTART;TZID=America/New_York:20260227T200000
DTEND;TZID=America/New_York:20260227T200000
DTSTAMP:20260421T084519
CREATED:20260201T233156Z
LAST-MODIFIED:20260201T233156Z
UID:19539-1772222400-1772222400@hangartheatre.org
SUMMARY:Night Eagle Cafe: Lúnasa
DESCRIPTION:Night Eagle Presents Lúnasa\nwith special guests Daoirí Farrell and Cathal Hayden\nFriday\, February 27 at 8 pm\nTickets: $30 in advance / $35 at the door \n\n\nAn “Irish music dream team” \n\n\n\n\nNamed for an ancient Celtic harvest festival in honor of the Irish god Lugh\, LÚNASA was formed in 1997 from members of some of the greatest Irish groups of the previous decade. A review from Folk Roots magazine describing the band as an “Irish music dream team.” With over a quarter of a million records sold\, and performances of over 2\,500 shows across 36 countries\, Lúnasa has won multiple awards and become one of the most influential bands in the history of traditional music. \nLúnasa has collaborated with singers Natalie Merchant\, Mary-Chapin Carpenter\, and Tim O’Brien. High-profile concerts at The Hollywood Bowl\, New York’s Carnegie Hall\, Glastonbury Festival and Bercy Arena Paris have helped broaden the band’s audience and cement its place at the forefront of contemporary Irish music. \n  \n “The hottest Irish acoustic band on the planet.” Irish Voice \n“Daoirí Farrell is singlehandedly spearheading a resurgence of the authentic in Irish folk” Irish Music Magazine.  \n“Cathal Hayden is one of Ireland’s foremost fiddle players and his solo banjo performances are quite simply show-stopping” Irish Independent \n.Please note: Night Eagle Cafe is handling ticketing for this event via Eventbrite.
URL:https://hangartheatre.org/event/night-eagle-cafe-lunasa/
CATEGORIES:Hangar Rental
END:VEVENT
END:VCALENDAR