BEGIN:VCALENDAR
VERSION:2.0
PRODID:-//Hangar - Ithaca, NY - ECPv6.15.18//NONSGML v1.0//EN
CALSCALE:GREGORIAN
METHOD:PUBLISH
X-WR-CALNAME:Hangar - Ithaca, NY
X-ORIGINAL-URL:https://hangartheatre.org
X-WR-CALDESC:Events for Hangar - Ithaca, NY
REFRESH-INTERVAL;VALUE=DURATION:PT1H
X-Robots-Tag:noindex
X-PUBLISHED-TTL:PT1H
BEGIN:VTIMEZONE
TZID:America/New_York
BEGIN:DAYLIGHT
TZOFFSETFROM:-0500
TZOFFSETTO:-0400
TZNAME:EDT
DTSTART:20240310T070000
END:DAYLIGHT
BEGIN:STANDARD
TZOFFSETFROM:-0400
TZOFFSETTO:-0500
TZNAME:EST
DTSTART:20241103T060000
END:STANDARD
BEGIN:DAYLIGHT
TZOFFSETFROM:-0500
TZOFFSETTO:-0400
TZNAME:EDT
DTSTART:20250309T070000
END:DAYLIGHT
BEGIN:STANDARD
TZOFFSETFROM:-0400
TZOFFSETTO:-0500
TZNAME:EST
DTSTART:20251102T060000
END:STANDARD
BEGIN:DAYLIGHT
TZOFFSETFROM:-0500
TZOFFSETTO:-0400
TZNAME:EDT
DTSTART:20260308T070000
END:DAYLIGHT
BEGIN:STANDARD
TZOFFSETFROM:-0400
TZOFFSETTO:-0500
TZNAME:EST
DTSTART:20261101T060000
END:STANDARD
END:VTIMEZONE
BEGIN:VEVENT
DTSTART;VALUE=DATE:20250130
DTEND;VALUE=DATE:20250202
DTSTAMP:20260422T041144
CREATED:20250102T191211Z
LAST-MODIFIED:20250129T225407Z
UID:18586-1738195200-1738454399@hangartheatre.org
SUMMARY:Edgar Allan Poe Speakeasy
DESCRIPTION:January 30th – February 1st\n  \nStep back in time and immerse yourself in the dark and mysterious world of Edgar Allan Poe. This exclusive speakeasy will transport you to a bygone era as you sip on expertly crafted cocktails inspired by four of Poe’s most beloved stories. Led by the speakeasy’s lead mixologist and Poe historians\, this immersive evening promises to be a chillingly unforgettable experience. Don’t miss your chance to bring Poe’s tales to life\, one sip at a time\, and get your tickets for Edgar Allan Poe Speakeasy in Ithaca! \n  \nPlease note the Hangar Theatre is not handling ticketing for this event
URL:https://hangartheatre.org/event/edgar-allan-poe-speakeasy/
CATEGORIES:Hangar Rental
END:VEVENT
END:VCALENDAR