BEGIN:VCALENDAR
VERSION:2.0
PRODID:-//Hangar - Ithaca, NY - ECPv6.15.18//NONSGML v1.0//EN
CALSCALE:GREGORIAN
METHOD:PUBLISH
X-ORIGINAL-URL:https://hangartheatre.org
X-WR-CALDESC:Events for Hangar - Ithaca, NY
REFRESH-INTERVAL;VALUE=DURATION:PT1H
X-Robots-Tag:noindex
X-PUBLISHED-TTL:PT1H
BEGIN:VTIMEZONE
TZID:America/New_York
BEGIN:DAYLIGHT
TZOFFSETFROM:-0500
TZOFFSETTO:-0400
TZNAME:EDT
DTSTART:20250309T070000
END:DAYLIGHT
BEGIN:STANDARD
TZOFFSETFROM:-0400
TZOFFSETTO:-0500
TZNAME:EST
DTSTART:20251102T060000
END:STANDARD
BEGIN:DAYLIGHT
TZOFFSETFROM:-0500
TZOFFSETTO:-0400
TZNAME:EDT
DTSTART:20260308T070000
END:DAYLIGHT
BEGIN:STANDARD
TZOFFSETFROM:-0400
TZOFFSETTO:-0500
TZNAME:EST
DTSTART:20261101T060000
END:STANDARD
BEGIN:DAYLIGHT
TZOFFSETFROM:-0500
TZOFFSETTO:-0400
TZNAME:EDT
DTSTART:20270314T070000
END:DAYLIGHT
BEGIN:STANDARD
TZOFFSETFROM:-0400
TZOFFSETTO:-0500
TZNAME:EST
DTSTART:20271107T060000
END:STANDARD
END:VTIMEZONE
BEGIN:VEVENT
DTSTART;TZID=America/New_York:20260212T190000
DTEND;TZID=America/New_York:20260212T210000
DTSTAMP:20260421T082038
CREATED:20260113T191441Z
LAST-MODIFIED:20260115T021713Z
UID:19443-1770922800-1770930000@hangartheatre.org
SUMMARY:Hangar Trivia Night
DESCRIPTION:A Brainy Benefit: The Hangar Theatre’s Trivia Night\nHosted by DJ Dave Ashton from Lite Rock 97.3!\nThursday\, February 12 from 7–9 pm\nTickets: $100 team (up to 6) / $20 individual \nJoin us for a fun and friendly Trivia Night to raise funds for the Hangar Theatre’s KIDDSTUFF Series! Gather your friends (or come on your own!)\, test your knowledge\, and compete for Hangar-themed prizes—all while supporting the Hangar’s mission to bring outstanding Theatre for Young Audiences to our community. Whether you’re a trivia buff or just in it for a good time\, this is a night you won’t want to miss. \nThis is a family-friendly event that will include both general knowledge (pop culture\, sports\, history\, music) and some theater-related trivia. We’ll have a cash bar with wine\, beer\, and non-alcoholic beverages as well as sweet and snacky items to keep you sharp and on the ball. \nTrivia Night FAQs: \n1. How do I register as a team?\nPurchase a team ticket ($100) to register your team of up to 6 people. Within 48 hours of purchasing your ticket\, you will receive a google form by email that will let you submit a team name (if you have one!) as well as the names of your team members.\n \n2. Can I register as an individual?\nAbsolutely! Purchase an individual ticket ($20) to register as an individual\, and we will match you with a team. Within 48 hours of purchasing your ticket\, you will receive a google form by email that will let you submit any team requests (for example\, you and a friend could purchase individual tickets and request to be on the same team.) \n3. How does it work?\nAll teams will get asked the same question\, read aloud by emcee DJ Dave Ashton. Players will work within their teams to come up with an answer\, write it down\, and submit. All questions are about a variety of topics including general knowledge and theater-related trivia. Some questions will be multiple choice\, others will be fill in the blank.\n \n4. How does a team win?\nThe team with most points at the end of the game are our winners! \n  \n 
URL:https://hangartheatre.org/event/hangar-trivia-night/
LOCATION:Hangar Theatre\, 801 Taughannock Blvd\, Ithaca\, NY\, United States
CATEGORIES:Hangar Fundraising Event
END:VEVENT
END:VCALENDAR