BEGIN:VCALENDAR
VERSION:2.0
PRODID:-//Hangar - Ithaca, NY - ECPv6.15.18//NONSGML v1.0//EN
CALSCALE:GREGORIAN
METHOD:PUBLISH
X-WR-CALNAME:Hangar - Ithaca, NY
X-ORIGINAL-URL:https://hangartheatre.org
X-WR-CALDESC:Events for Hangar - Ithaca, NY
REFRESH-INTERVAL;VALUE=DURATION:PT1H
X-Robots-Tag:noindex
X-PUBLISHED-TTL:PT1H
BEGIN:VTIMEZONE
TZID:America/New_York
BEGIN:DAYLIGHT
TZOFFSETFROM:-0500
TZOFFSETTO:-0400
TZNAME:EDT
DTSTART:20240310T070000
END:DAYLIGHT
BEGIN:STANDARD
TZOFFSETFROM:-0400
TZOFFSETTO:-0500
TZNAME:EST
DTSTART:20241103T060000
END:STANDARD
BEGIN:DAYLIGHT
TZOFFSETFROM:-0500
TZOFFSETTO:-0400
TZNAME:EDT
DTSTART:20250309T070000
END:DAYLIGHT
BEGIN:STANDARD
TZOFFSETFROM:-0400
TZOFFSETTO:-0500
TZNAME:EST
DTSTART:20251102T060000
END:STANDARD
BEGIN:DAYLIGHT
TZOFFSETFROM:-0500
TZOFFSETTO:-0400
TZNAME:EDT
DTSTART:20260308T070000
END:DAYLIGHT
BEGIN:STANDARD
TZOFFSETFROM:-0400
TZOFFSETTO:-0500
TZNAME:EST
DTSTART:20261101T060000
END:STANDARD
END:VTIMEZONE
BEGIN:VEVENT
DTSTART;TZID=America/New_York:20251015T200000
DTEND;TZID=America/New_York:20251015T200000
DTSTAMP:20260423T044340
CREATED:20250709T005858Z
LAST-MODIFIED:20251015T145958Z
UID:19047-1760558400-1760558400@hangartheatre.org
SUMMARY:DSP Shows: Kathleen Edwards
DESCRIPTION:DSP SHows: Kathleen Edwards\nWednesday\, October 15\, 2025 @ 8 pm\n  \nTickets: \nOn sale Friday\, July 11 at 10 am\n$30 in advance; $35 at the door \nDoors open at 7 pm \nKathleen Edwards\nIn 2020\, Kathleen Edwards released her fifth album Total Freedom after taking a break from music. Last month she was covered by Waxahatchee and Brennan Wedl in Nashville\, and now the Canadian singer-songwriter is announcing her new record Billionaire\, which is produced by Jason Isbell and Gena Johnson. The refreshing songs “Save Your Soul” and “Say Goodbye\, Tell No One” are out now. \n“I decided to call the record Billionaire because the word is used in such a caustic way these days\,” Edwards says. “But we should all want to be billionaires in life\, to be rich in experience\, friendship\, purpose\, and the pursuit of the things that bring us joy.” \nThe LP has Isbell on electric guitar\, acoustic guitar\, keys\, synth\, and backing vocals; Johnson on piano and backing vocals; Anna Butterss on bass; Annie Clements on bass; Chad Gamble on drums and percussion; Jen Gunderman on piano\, celeste\, Hammond B3 organ\, and Wurlizter; and Shelby Lynne and Allison Moorer on backing vocals. Hear the singles here.
URL:https://hangartheatre.org/event/kathleenedwards/
LOCATION:NY
CATEGORIES:DSP Shows
END:VEVENT
END:VCALENDAR