BEGIN:VCALENDAR
VERSION:2.0
PRODID:-//Hangar - Ithaca, NY - ECPv6.15.18//NONSGML v1.0//EN
CALSCALE:GREGORIAN
METHOD:PUBLISH
X-ORIGINAL-URL:https://hangartheatre.org
X-WR-CALDESC:Events for Hangar - Ithaca, NY
REFRESH-INTERVAL;VALUE=DURATION:PT1H
X-Robots-Tag:noindex
X-PUBLISHED-TTL:PT1H
BEGIN:VTIMEZONE
TZID:America/New_York
BEGIN:DAYLIGHT
TZOFFSETFROM:-0500
TZOFFSETTO:-0400
TZNAME:EDT
DTSTART:20240310T070000
END:DAYLIGHT
BEGIN:STANDARD
TZOFFSETFROM:-0400
TZOFFSETTO:-0500
TZNAME:EST
DTSTART:20241103T060000
END:STANDARD
BEGIN:DAYLIGHT
TZOFFSETFROM:-0500
TZOFFSETTO:-0400
TZNAME:EDT
DTSTART:20250309T070000
END:DAYLIGHT
BEGIN:STANDARD
TZOFFSETFROM:-0400
TZOFFSETTO:-0500
TZNAME:EST
DTSTART:20251102T060000
END:STANDARD
BEGIN:DAYLIGHT
TZOFFSETFROM:-0500
TZOFFSETTO:-0400
TZNAME:EDT
DTSTART:20260308T070000
END:DAYLIGHT
BEGIN:STANDARD
TZOFFSETFROM:-0400
TZOFFSETTO:-0500
TZNAME:EST
DTSTART:20261101T060000
END:STANDARD
END:VTIMEZONE
BEGIN:VEVENT
DTSTART;TZID=America/New_York:20250127T200000
DTEND;TZID=America/New_York:20250127T200000
DTSTAMP:20260423T183104
CREATED:20240424T140028Z
LAST-MODIFIED:20241105T164541Z
UID:18044-1738008000-1738008000@hangartheatre.org
SUMMARY:DSP Shows: Billy Prine & The Prine Time Band: The Songs of John Prine
DESCRIPTION:Monday\, January 27\, 2025\nShow at 8 p.m.\, Doors open at 7 p.m.\n\nOn-Sale: Friday\, April 26th @ 10 a.m. EST \n$35 in advance / $40 at the door \n  \nPlease note – the Hangar Theatre does not handle ticketing for DSP shows.  If you need assistance with tickets contact DSP directly at info@dspshows.com or 607-280-2900.
URL:https://hangartheatre.org/event/dsp-shows-billy-prine-the-prine-time-band-the-songs-of-john-prine/
LOCATION:NY
CATEGORIES:DSP Shows
END:VEVENT
END:VCALENDAR