BEGIN:VCALENDAR
VERSION:2.0
PRODID:-//Hangar - Ithaca, NY - ECPv6.15.18//NONSGML v1.0//EN
CALSCALE:GREGORIAN
METHOD:PUBLISH
X-ORIGINAL-URL:https://hangartheatre.org
X-WR-CALDESC:Events for Hangar - Ithaca, NY
REFRESH-INTERVAL;VALUE=DURATION:PT1H
X-Robots-Tag:noindex
X-PUBLISHED-TTL:PT1H
BEGIN:VTIMEZONE
TZID:America/New_York
BEGIN:DAYLIGHT
TZOFFSETFROM:-0500
TZOFFSETTO:-0400
TZNAME:EDT
DTSTART:20230312T070000
END:DAYLIGHT
BEGIN:STANDARD
TZOFFSETFROM:-0400
TZOFFSETTO:-0500
TZNAME:EST
DTSTART:20231105T060000
END:STANDARD
BEGIN:DAYLIGHT
TZOFFSETFROM:-0500
TZOFFSETTO:-0400
TZNAME:EDT
DTSTART:20240310T070000
END:DAYLIGHT
BEGIN:STANDARD
TZOFFSETFROM:-0400
TZOFFSETTO:-0500
TZNAME:EST
DTSTART:20241103T060000
END:STANDARD
BEGIN:DAYLIGHT
TZOFFSETFROM:-0500
TZOFFSETTO:-0400
TZNAME:EDT
DTSTART:20250309T070000
END:DAYLIGHT
BEGIN:STANDARD
TZOFFSETFROM:-0400
TZOFFSETTO:-0500
TZNAME:EST
DTSTART:20251102T060000
END:STANDARD
BEGIN:DAYLIGHT
TZOFFSETFROM:-0500
TZOFFSETTO:-0400
TZNAME:EDT
DTSTART:20260308T070000
END:DAYLIGHT
BEGIN:STANDARD
TZOFFSETFROM:-0400
TZOFFSETTO:-0500
TZNAME:EST
DTSTART:20261101T060000
END:STANDARD
END:VTIMEZONE
BEGIN:VEVENT
DTSTART;VALUE=DATE:20250425
DTEND;VALUE=DATE:20250428
DTSTAMP:20260421T042438
CREATED:20250214T170431Z
LAST-MODIFIED:20250214T172409Z
UID:18726-1745539200-1745798399@hangartheatre.org
SUMMARY:Opera Ithaca: Lucidity
DESCRIPTION:Lucidity\nBy Laura Kaminsky and David Cote\nApril 25–27\, 2025\nCo-commissioned by Opera Ithaca alongside OnSite Opera\, Seattle Opera\, Opera in the Heights\, and Tri-Cities Opera\, Lucidity explores themes of memory\, consciousness\, and the human experience through a poignant\, contemporary lens. Through this regional premiere\, Opera Ithaca is reaffirming its role as a key player in the national opera landscape. It provides a platform for voices and stories that are too often overlooked. \n  \n  \nPerformance Schedule: \nFriday\, April 25 @ 7:30 pm \nSaturday\, April 26 @ 7:30 pm \nSunday\, April 27 @ 2 pm
URL:https://hangartheatre.org/event/opera-ithaca-lucidity/
CATEGORIES:Opera Ithaca,Community Partners
END:VEVENT
BEGIN:VEVENT
DTSTART;TZID=America/New_York:20250328T183000
DTEND;TZID=America/New_York:20250328T183000
DTSTAMP:20260421T042438
CREATED:20250217T234730Z
LAST-MODIFIED:20250217T235904Z
UID:18746-1743186600-1743186600@hangartheatre.org
SUMMARY:WVBR Celebrates John Rudan
DESCRIPTION:WVBR Celebrates John Rudan: 50 Years on the Radio\nIntroducing Revival\, Ithaca’s Newest Rock and Soul Big Band.\n  \nFriday\, March 28 @ 6:30 pm \nTickets: $12 \nMusic and Milestones: A dance party honoring John Rudan’s 50 years as a WVBR radio host. For your listening and dancing pleasure: Introducing Revival\, a rock and soul band featuring some of Ithaca’s most accomplished and legendary musicians. \n  \n \n  \nPlease note seating is General Admission for this performance.
URL:https://hangartheatre.org/event/wvbr-celebrates-john-rudan/
CATEGORIES:Community Partners
END:VEVENT
BEGIN:VEVENT
DTSTART;TZID=America/New_York:20250321T200000
DTEND;TZID=America/New_York:20250321T200000
DTSTAMP:20260421T042438
CREATED:20250207T014437Z
LAST-MODIFIED:20250207T020233Z
UID:18692-1742587200-1742587200@hangartheatre.org
SUMMARY:The Waiting Room: A Tribute to Genesis and Peter Gabriel
DESCRIPTION:The Waiting Room: A Tribute to Genesis and Peter Gabriel\n  \nFriday\, March 21\, 2025\nDoors open at 7 pm; Show is at 8 pm\n  \nTickets:\n$25 in advance\n$30 at the door \n  \nThe Waiting Room\, America’s premier tribute to Genesis and Pater Gabriel\, makes its debut at the Hangar Theatre with a brand new show\, including classics from the entire Genesis catalog as well as Peter Gabriel solo material.
URL:https://hangartheatre.org/event/the-waiting-room-a-tribute-to-genesis-and-peter-gabriel/
CATEGORIES:Community Partners
END:VEVENT
BEGIN:VEVENT
DTSTART;TZID=America/New_York:20250314T190000
DTEND;TZID=America/New_York:20250314T190000
DTSTAMP:20260421T042438
CREATED:20250211T221759Z
LAST-MODIFIED:20250211T222924Z
UID:18702-1741978800-1741978800@hangartheatre.org
SUMMARY:Improv Class Showcase
DESCRIPTION:Improv Class Showcase\n  \nFriday\, March 14\, 2025 @ 7pm\n  \nTickets: $10\n\n\nSee friends\, family\, and community members show the skills they’ve picked up in class on the big stage. Over 8 weeks\, these performers have learned how to use the concepts of game and pattern in improv to make each other look brilliant and hilarious. Sit back\, relax\, and laugh your whole butt off as they make up an entire show on the spot using your suggestions.\n\nIf you are interested in taking an improv class or performing improv at the Hangar Theatre\, email boxoffice@hangartheatre.org or instructor Ilan Kaplan at ilanjkaplan@gmail.com.\n\nPlease note seating is General Admission for this performance.
URL:https://hangartheatre.org/event/improv-class-showcase/
CATEGORIES:Community Partners
END:VEVENT
BEGIN:VEVENT
DTSTART;TZID=America/New_York:20250215T180000
DTEND;TZID=America/New_York:20250215T180000
DTSTAMP:20260421T042438
CREATED:20250107T202736Z
LAST-MODIFIED:20250212T204824Z
UID:18622-1739642400-1739642400@hangartheatre.org
SUMMARY:Destiny La Vibe Presents: Circus of Love- Valentine’s Extravaganza 2
DESCRIPTION:Destiny La Vibe Presents: Circus of Love- Valentine’s Extravaganza 2\nSaturday\, February 15th @ 6 pm\n  \nGet ready for an electrifying Valentine’s concert that promises to be a night to remember! Destiny La Vibe and Vibe Nation will take the stage\, bringing together an incredible blend of soul\, R&B\, pop\, rock ‘n’ roll\, and stunning circus arts. \nAs the venue fills with anticipation\, the lights dim\, and the crowd gets excited. Destiny La Vibe kicks off the night with her signature soulful sounds\, her powerful voice captivating everyone in attendance. The energy in the room is palpable as she seamlessly transitions into smooth R&B tracks that invite the audience to sway and groove along. The concert will feature special guests such as two-time Grammy award winning artist Clayton Bryant and the very sensational Dave Tony. \nDestiny La Vibe’s band\, Vibe Nation band\, will feature a stellar rhythm and horn section\, delivering an electrifying performance that gets hearts racing and feet moving. Their infectious rhythms and catchy hooks create an atmosphere of love and joy\, making it impossible not to sing along. The visuals are equally stunning\, with vibrant light displays that enhance every note and lyric. \nBut the night doesn’t stop there! Interspersed throughout the concert\, talented circus performers from CirqOvation dazzle the audience with breathtaking aerial acts and gravity-defying stunts. Imagine a trapeze artist soaring above while dancers twirl and spin\, adding a whimsical touch to the vibrant musical experience. The night leads to a sexy segment from Destiny La Vibe\, Goddess\, and Dominique’s Dance Creations that will set a fire deep within. \nWhat’s a night out without a surprise grand finale? The show will culminate in an unforgettable surprise. This Valentine’s Extravaganza with Destiny La Vibe is not just a musical event; it’s an immersive experience that will leave everyone buzzing with joy\, laughter\, and a little magic in the air. Don’t miss out on this love\, music\, and art celebration! \n  \n10% of Ticket Sales Will Be Donated to the Delta Sigma Theta Sorority Ithaca Alumnae Chapter’s Educational Development Scholarship.\n  \nTickets:\nVIP Package ($105) \nIntroducing the exclusive VIP ticket package for an unforgettable evening with RnB sensation M’busi! This special experience begins at 5:30 PM\, offering fans an intimate preshow. As part of this package\, VIP guests can enter the venue early\, with doors opening at 5:15 PM\, allowing you to soak in the atmosphere before the excitement starts. \nThe VIP package also includes a special meet-and-greet with Destiny La Vibe\, after the show where you’ll have the chance to engage\, take photos\, and enjoy exclusive insights into Destiny’s music and journey. You’ll also receive a special VIP gift bag filled with merchandise\, and a premium viewing spot for the concert ensures you won’t miss a moment of the electrifying performance. \n\n**Center Section – First & Second Row Seating**\n\n  \nRuby Chocolate Seating ($55) \nThe Ruby Chocolate seating offers a fantastic viewing experience. \n\n**Center Section – Third Row Seating**: The third row in the center section is an ideal spot for those who want a direct view of the performer. Positioned just a few rows back\, this seating offers a balanced perspective of the stage while still maintaining an intimate atmosphere. You’ll experience the energy of the crowd and have excellent sightlines for the entire performance\, making it a memorable experience.\n\nSeating in the Ruby Chocolate section promises an incredible night filled with music and excitement! Additionally\, you will find a special treat in your seat. \n  \nRegular ($35) \nRegular seating for the concert offers a lively and engaging experience for attendees. This section typically provides a mix of seating arrangements\, allowing fans to enjoy the show in a less formal setting. While you’ll be part of a larger crowd\, the atmosphere remains electric\, with everyone sharing a collective excitement for the performance. \n\n**Center Section – Fourth row & Back**:\n**Side Sections – (First Row is accessible seating)**:
URL:https://hangartheatre.org/event/destiny-la-vibe-presents-circus-of-love-valentines-extravaganza-2/
CATEGORIES:Community Partners
END:VEVENT
BEGIN:VEVENT
DTSTART;TZID=America/New_York:20250208T193000
DTEND;TZID=America/New_York:20250208T193000
DTSTAMP:20260421T042438
CREATED:20250108T153059Z
LAST-MODIFIED:20250108T155011Z
UID:18646-1739043000-1739043000@hangartheatre.org
SUMMARY:Ithaca Ballet: WinterDance 2025
DESCRIPTION:Ithaca Ballet: WinterDance 2025\nSaturday\, February 8\, 2025 @ 7:30 pm\n  \nThe Ithaca Ballet presents WinterDance 2025\, an evening of cutting-edge\, contemporary choreography and dance. \n  \nRepertoire includes new choreography plus: \n-Meggin Roses’ “Blues in Pieces” and new “Stand by Me”\n-Larry Brantley’s “Trip-Tic”\n-Lavinia Reid’s Stratus \n  \n\nTickets:\nAdults – $20 \nStudents & Seniors – $15 \nChildren 12 & Under – $10 \n  \nPlease note seating is general admission for this performance.
URL:https://hangartheatre.org/event/ithaca-ballet-winterdance-2025/
CATEGORIES:Ithaca Ballet,Community Partners
END:VEVENT
BEGIN:VEVENT
DTSTART;TZID=America/New_York:20241221T200000
DTEND;TZID=America/New_York:20241221T200000
DTSTAMP:20260421T042438
CREATED:20241016T202442Z
LAST-MODIFIED:20241216T164942Z
UID:18506-1734811200-1734811200@hangartheatre.org
SUMMARY:Gunpoets
DESCRIPTION:Gunpoets\nSaturday\, December 21\, at 8 pm\nPresented in partnership between WSKG and the Hangar Theatre\n  \nTickets: $20 (Children under 10: $3) \nDoors Open at 7 pm; Show is at 8 pm \nPlease note seating is general admission for this performance \n  \nGunpoets\nSince the Gunpoets formed in 2008\, their stellar catalog of albums and dedication to an ever growing and energized fan base has helped propel them to the top of the Central New York music scene. This seven-member live hip-hop band from Ithaca\, NY\, uses voice as a weapon\, words as bullets\, spreading the universal message of peace\, love\, and justice through music with their positive message and uplifting performances. In addition to being one of the top homegrown acts in their musically rich hometown\, Gunpoets have become staples at regional festivals such as the Finger Lakes GrassRoots Festival of Music and Dance and the Great Blue Heron Music Festival. Over their 15 years together\, they have become in-demand headliners at clubs and concert series across the Northeast.
URL:https://hangartheatre.org/event/gunpoets/
CATEGORIES:Community Partners
END:VEVENT
BEGIN:VEVENT
DTSTART;TZID=America/New_York:20241109T190000
DTEND;TZID=America/New_York:20241109T190000
DTSTAMP:20260421T042438
CREATED:20240913T175009Z
LAST-MODIFIED:20241109T183139Z
UID:18431-1731178800-1731178800@hangartheatre.org
SUMMARY:A Tribute to the King – Elvis! Featuring Terry Buchwald
DESCRIPTION:Saturday\, November 9\, 2024\nShow at 7 pm\, Doors open at 6 pm \nTickets: $20 \nTerry Buchwald \nTerry Buchwald is a well-known tribute artist and recording artist from Western New York\, who has earned the distinction of being named one of the top tribute artists in the United States by the Los Angeles times and is a proud member of the Buffalo Music Hall of Fame Class of 2017. Audiences across the nation are astonished by his dynamic voice and striking resemblance to Elvis. By all accounts\, Terry has the looks\, the moves and the voice of the legendary “King.”  He has a tremendous following in and around Ithaca and has sold out the last several shows at our Hangar Theatre- get your tickets now! \n\n\nPlease note seating for this performance is General Admission. \n\n\nThis show is sold out.  To get on the wait list\, come to the theatre starting at 5:30pm on Saturday 11/9 and put your name on the list.  At 7pm\, if there are any unclaimed tickets we will release seats and take people from the wait list on a first-come first-served basis.
URL:https://hangartheatre.org/event/a-tribute-to-king-elvis-featuring-terry-buchwald/
CATEGORIES:Community Partners
END:VEVENT
BEGIN:VEVENT
DTSTART;VALUE=DATE:20241024
DTEND;VALUE=DATE:20241104
DTSTAMP:20260421T042438
CREATED:20240903T234658Z
LAST-MODIFIED:20241022T172457Z
UID:18421-1729728000-1730678399@hangartheatre.org
SUMMARY:Ithaca College in Rotation: Fever/Dream & Stupid F##king Bird
DESCRIPTION:October 24 – November 3\, 2024\n  \nFEVER/DREAM\nBy Sheila Callaghan\nDirected by Cynthia Henderson \nBased on Pedro Calderón de la Barca’s 1636 play Life is a Dream\, Fever/Dream chronicles a man’s rise from customer service representative to CEO\, satirizing corporate America. \n\nSTUPID F##KING BIRD\nBy Aaron Posner\nSort of adapted from THE SEAGULL\nBy Anton Chekov\nDirected by Marc Gomes \n\n Stupid F##king Bird\, loosely based on Anton Chekhov’s The Seagull\, explores the timeless struggles between generations\, art\, love\, and growing up. \n  \nFever/Dream & Stupid F##king Bird will be performed in rotation at Hangar Theatre. \n\n\nPerformance Dates & Times: \n \nSTUPID F##KING BIRD\nThursday\, October 24\, 2024 at 8 pm\nSaturday\, October 26\, 2024 at 2 pm\nWednesday\, October 30\, 2024 at 8 pm\nFriday\, November 1\, 2024 at 8 pm\nSaturday\, November 2\, 2024 at 8 pm \n  \n \nFEVER/DREAM\nFriday\, October 25\, 2024 at 8 pm\nSaturday\, October 26\, 2024 at 8 pm\nThursday\, October 31\, 2024 at 8 pm\nSaturday\, November 2\, 2024 at 2 pm\nSunday\, November 3\, 2024 at 2 pm
URL:https://hangartheatre.org/event/ithaca-college-in-rotation-fever-dream-stupid-fking-bird/
CATEGORIES:Community Partners
END:VEVENT
BEGIN:VEVENT
DTSTART;VALUE=DATE:20241019
DTEND;VALUE=DATE:20241020
DTSTAMP:20260421T042438
CREATED:20240828T230309Z
LAST-MODIFIED:20241014T230321Z
UID:18412-1729296000-1729382399@hangartheatre.org
SUMMARY:Ithaca Ballet: Hansel and Gretel & Peter and the Wolf
DESCRIPTION:Saturday\, October 19 at 3 pm & 7 pm\n  \nThe Ithaca premiere of Hansel and Gretel will highlight the Ithaca Ballet’s Fall children’s performance.  Choreographed by Lavinia Reid with music by Engelbert Humperdinck\, the Grimm’s well known fairytale in ballet form tells the story of a brother and sister wandering in the forest\, encountering an evil witch and her enchanted gingerbread house. \nThe second half of the program is Peter and the Wolf\, music by Serge Prokofiev and narrated by Peter Ustinov. \nInformation about Ithaca Ballet: ithacaballet.org \n  \nPlease note seating is general admission for this show. \nThe run time is approximately 1 hour 20 minutes\, including an intermission.
URL:https://hangartheatre.org/event/ithaca-ballet-hansel-and-gretel-peter-and-the-wolf/
CATEGORIES:Ithaca Ballet,Community Partners
END:VEVENT
BEGIN:VEVENT
DTSTART;VALUE=DATE:20241004
DTEND;VALUE=DATE:20241007
DTSTAMP:20260421T042438
CREATED:20240822T012358Z
LAST-MODIFIED:20240822T012358Z
UID:18394-1728000000-1728259199@hangartheatre.org
SUMMARY:Opera Ithaca Presents: Cosi fan tutte
DESCRIPTION:Friday\, October 4\, 2024 at 7:30 p.m.\nSunday\, October 7\, 2024 at 2:00 p.m.\n  \n\n\n\n\n\n\n\n\n\n\n\n\n\n\n\nCosi fan tutte\nby Wolfgang Amadeus Mozart \n\n\n\nOn the set of a soap opera in the 1980s unfolds a Così fan tutte like you have never seen before! In a story where the real and scripted life are in parallel\, both on camera and off\, anything can happen. You’ll have to tune in to find out!
URL:https://hangartheatre.org/event/opera-ithaca-presents-cosi-fan-tutte/
LOCATION:Hangar Theatre Indoor Neiderkorn Stage\, 801 Taughannock Blvd.\, Ithaca\, NY\, 14850\, United States
CATEGORIES:Opera Ithaca,Community Partners
END:VEVENT
BEGIN:VEVENT
DTSTART;VALUE=DATE:20240902
DTEND;VALUE=DATE:20240903
DTSTAMP:20260421T042438
CREATED:20240828T172804Z
LAST-MODIFIED:20240828T172804Z
UID:18408-1725235200-1725321599@hangartheatre.org
SUMMARY:Hupstate Circus Festival: Cirque Us Stories
DESCRIPTION:Monday\, September 2 at 12 pm \n“Cirque Us Stories” is a thoughtfully curated show that flips through the pages of our troupe’s favorite stories to bring you a touching\, thrilling narrative about community and identity. Interweaving a collection of folktales\, classic literature\, children’s stories\, modern fiction\, and more\, this show jumps off the page with twists\, flips\, rewrites\, and retellings of stories you’ll love. The show features aerialists\, jugglers\, acrobats\, contortionists\, clowns\, and more\, all ready to fly off the shelf and straight to you. \nCirque Us Stories is proud to be the recipient of the 2023 Philadelphia Fringe Festival Award for “Best Circus” \nRecommended for all ages (Kids tickets are free) \n 
URL:https://hangartheatre.org/event/hupstate-circus-festival-cirque-us-stories/
CATEGORIES:Community Partners
END:VEVENT
BEGIN:VEVENT
DTSTART;VALUE=DATE:20240830
DTEND;VALUE=DATE:20240901
DTSTAMP:20260421T042438
CREATED:20240828T172235Z
LAST-MODIFIED:20240828T172235Z
UID:18403-1724976000-1725148799@hangartheatre.org
SUMMARY:Hupstate Circus Festival: PLAY DEAD
DESCRIPTION:by People Watching Collective \nFriday\, August 30 at 7 pm\nSaturday\, August 31 at 2 pm \nSet in a shifting universe of domestic trappings and interlocking stories\, People Watching’s first creation ‘Play Dead’ observes the way we navigate social connections. Through it’s surrealistic blend of acrobatics\, movement and physical theater\, the piece moves with larger than life physicality while bathing in an intimate atmosphere. By giving place for seemingly unexceptional stories to unfold\, we look closer and marvel at how beautiful\, twisted\, and sometimes laughable reality can be. Balanced on the cusp of the familiar and the otherworldly\, this performance is a reflection on the twilight of youth and all the uncertainties\, flawed ideals and sheer exhilaration that such an age encompasses. But rather than settling into bored fatalism\, this piece celebrates life\, the same way people desperately dance to the last song before the party ends. \n  \nRecommended for ages 16+ \n 
URL:https://hangartheatre.org/event/hupstate-circus-festival-play-dead/
CATEGORIES:Community Partners
END:VEVENT
BEGIN:VEVENT
DTSTART;TZID=America/New_York:20240419T193000
DTEND;TZID=America/New_York:20240421T140000
DTSTAMP:20260421T042438
CREATED:20230928T160124Z
LAST-MODIFIED:20240412T152914Z
UID:17443-1713555000-1713708000@hangartheatre.org
SUMMARY:Opera Ithaca Presents The Turn of the Screw
DESCRIPTION:Friday\, April 19\, 2024 at 7:30 p.m.\nSunday\, April 21\, 2024 at 2:00 p.m.\n  \n\n\n\n\n\n\n\n\n\n\n\n\n\n\n\nThe Turn of the Screw\n\nBenjamin Britten\, composerMyfanwy Piper\, librettist\n\n\nBased on the novella by Henry James\n\n\nAn impressionable young woman accepts an open-ended assignment to care for two young children in the English countryside\, but she can’t shake the feeling that there are others there with her. Is her reality your reality? \n\n\nCast\nLynn Craver as The Governess\nCeleste Morales as Mrs. Grose\nGabriel Hernandez as Peter Quint\nRachel Blaustein as Miss Jessel\nEmma Commisso as Flora\nWyatt McDaniel as Miles \nCreative Team\nSusannah Berryman\, Director\nKristin Ditlow\, Conductor \n 
URL:https://hangartheatre.org/event/opera-ithaca-presents-the-turn-of-the-screw/
LOCATION:Hangar Theatre\, 801 Taughannock Blvd\, Ithaca\, NY\, United States
CATEGORIES:Opera Ithaca,Community Partners
END:VEVENT
END:VCALENDAR